BEGIN:VCALENDAR
VERSION:2.0
PRODID:-//Accion Social Empresarial - ECPv5.0.0.2//NONSGML v1.0//EN
CALSCALE:GREGORIAN
METHOD:PUBLISH
X-WR-CALNAME:Accion Social Empresarial
X-ORIGINAL-URL:https://somosase.es
X-WR-CALDESC:Eventos para Accion Social Empresarial
BEGIN:VTIMEZONE
TZID:Europe/Madrid
BEGIN:DAYLIGHT
TZOFFSETFROM:+0100
TZOFFSETTO:+0200
TZNAME:CEST
DTSTART:20260329T010000
END:DAYLIGHT
BEGIN:STANDARD
TZOFFSETFROM:+0200
TZOFFSETTO:+0100
TZNAME:CET
DTSTART:20261025T010000
END:STANDARD
END:VTIMEZONE
BEGIN:VEVENT
DTSTART;TZID=Europe/Madrid:20260304T193000
DTEND;TZID=Europe/Madrid:20260304T210000
DTSTAMP:20260421T114013
CREATED:20260302T081527Z
LAST-MODIFIED:20260302T081709Z
UID:38399-1772652600-1772658000@somosase.es
SUMMARY:Encuentro de Jóvenes de ASE - 4 de marzo
DESCRIPTION:El próximo día 4 de marzo\, a las 19:30 horas\, en La Favorita de Madrid\, Calle Covarrubias 25\, tendrá lugar el evento sobre el Liderazgo empresarial cristiano de los jóvenes en la era actual.\nPablo España Osborne\, creador entre otras de la comunidad We Are Seekers ofrecerá una ponencia sobre el tema.\nEl ambiente será de excelencia y la charla instructiva y participativa\, así que ya sabes\, si eres joven y quieres saber más no dudes en inscribirte\, las plazas son limitadas.\nEn La Favorita Madrid\, el miércoles 4 de marzo a las 19:30.\n¡Te esperamos! \n
URL:https://somosase.es/event/encuentro-de-jovenes-de-ase/
LOCATION:La Favorita Madrid\, Covarrubias 25\, Madrid\, Madrid\, 28010\, España
ATTACH;FMTTYPE=image/png:https://somosase.es/wp-content/uploads/2026/03/1erASE-Jóvenes_definitivo-e1772439290126.png
END:VEVENT
END:VCALENDAR